BEGIN:VCALENDAR
VERSION:2.0
PRODID:-//DLLS Sports - ECPv6.10.2//NONSGML v1.0//EN
CALSCALE:GREGORIAN
METHOD:PUBLISH
X-WR-CALNAME:DLLS Sports
X-ORIGINAL-URL:https://alldlls.com
X-WR-CALDESC:Events for DLLS Sports
REFRESH-INTERVAL;VALUE=DURATION:PT1H
X-Robots-Tag:noindex
X-PUBLISHED-TTL:PT1H
BEGIN:VTIMEZONE
TZID:America/Chicago
BEGIN:DAYLIGHT
TZOFFSETFROM:-0600
TZOFFSETTO:-0500
TZNAME:CDT
DTSTART:20260308T080000
END:DAYLIGHT
BEGIN:STANDARD
TZOFFSETFROM:-0500
TZOFFSETTO:-0600
TZNAME:CST
DTSTART:20261101T070000
END:STANDARD
END:VTIMEZONE
BEGIN:VEVENT
DTSTART;TZID=America/Chicago:20260423T190000
DTEND;TZID=America/Chicago:20260423T230000
DTSTAMP:20260419T193522
CREATED:20260408T145848Z
LAST-MODIFIED:20260408T150616Z
UID:10000021-1776970800-1776985200@alldlls.com
SUMMARY:DLLS Cowboys NFL Draft Party at WinStar World Casino
DESCRIPTION:Join Jesse Holley and Jeff Cavanaugh for an unforgettable NFL Draft night with the DLLS Cowboys Podcast at WinStar World Casino and Resort for a live\, high-energy experience! Surround yourself with fellow Diehards as picks roll in\, reactions fly\, and the future of the team takes shape in real time. With big screens\, great food\, and nonstop Cowboys talk\, this is the ultimate spot to celebrate\, debate\, and cheer together. Don’t miss your chance to be part of the action—grab your friends and come hang with the podcast crew for a draft night you won’t forget! \n\n\n\nLocation: Dallas Cowboys Bar and Grill inside the CasinoRSVP To be entered into giveaways like a Drew Pearson signed photo and more! MUST be present to win
URL:https://alldlls.com/event/dlls-cowboys-nfl-draft-party-at-winstar-world-casino/
LOCATION:WinStar World Casino\, 777 Casino Avenue\, Thackerville\, Oklahoma\, 73459\, United States
CATEGORIES:Live Show,Watch Party
ATTACH;FMTTYPE=image/jpeg:https://cdn.allcitynetwork.com/wp-content/uploads/sites/14/2026/04/07202111/DDL_DraftParty_1920x1080.jpg
END:VEVENT
END:VCALENDAR